BEGIN:VCALENDAR
VERSION:2.0
PRODID:-//wp-events-plugin.com//7.2.3.1//EN
TZID:Europe/Berlin
X-WR-TIMEZONE:Europe/Berlin
BEGIN:VEVENT
UID:108@pfarrverband-forstenried.de
DTSTART;TZID=Europe/Berlin:20260529T110000
DTEND;TZID=Europe/Berlin:20260529T160000
DTSTAMP:20260225T155658Z
URL:https://www.pfarrverband-forstenried.de/events/pfarrbaumfest-christi-h
 immelfahrt/
SUMMARY:Pfarrbaumfest (Christi Himmelfahrt)
DESCRIPTION:Herzliche Einladung zum Pfarrbaumfest in St. Karl Borromäus! N
 ach dem Gottesdienst wird gegrillt und später gibt es Kaffee und Kuchen. 
 Am Nachmittag wird der Pfarrbaum umgelegt. Für die musikalische Untermalu
 ng sorgt wie immer die Blaskapelle Forstenried. Auf die Jüngsten wartet n
 atürlich wieder die Hüpfburg!
ATTACH;FMTTYPE=image/jpeg:https://www.pfarrverband-forstenried.de/wp-conte
 nt/uploads/2026/02/2026-05-Plakat-Pfarrbaumfest.png
CATEGORIES:Kinder,Veranstaltung in Karl Borromäus
END:VEVENT
BEGIN:VTIMEZONE
TZID:Europe/Berlin
X-LIC-LOCATION:Europe/Berlin
BEGIN:DAYLIGHT
DTSTART:20260329T030000
TZOFFSETFROM:+0100
TZOFFSETTO:+0200
TZNAME:CEST
END:DAYLIGHT
END:VTIMEZONE
END:VCALENDAR