BEGIN:VCALENDAR
VERSION:2.0
PRODID:-//wp-events-plugin.com//7.2.3.1//EN
TZID:Europe/Berlin
X-WR-TIMEZONE:Europe/Berlin
BEGIN:VEVENT
UID:111@pfarrverband-forstenried.de
DTSTART;TZID=Europe/Berlin:20260406T140000
DTEND;TZID=Europe/Berlin:20260406T160000
DTSTAMP:20260306T124138Z
URL:https://www.pfarrverband-forstenried.de/events/osterspaziergang-fuer-f
 amilien/
SUMMARY:Osterspaziergang für Familien
DESCRIPTION:Spaziergang / Emmausgang zur Eichenwiese im Forstenrieder Park\
 nGemeinsam spazieren wir von der Kirche Heilig Kreuz zur Eichenwiese im Fo
 rstenrieder Park (ca. 30-45 Minuten Fußweg – je nach Tempo). Dort werde
 n wir zusammen picknicken\, spielen und Ostereier suchen. Nicht vergessen:
  Picknickdecke und Brotzeit\, für kleinere Kinder Buggy/Laufrad oder ähn
 liches.
ATTACH;FMTTYPE=image/jpeg:https://www.pfarrverband-forstenried.de/wp-conte
 nt/uploads/2026/03/2026-04-Plakat-Osterspaziergang-fuer-Familien.png
CATEGORIES:Kinder,Veranstaltung in Heilig Kreuz
END:VEVENT
BEGIN:VTIMEZONE
TZID:Europe/Berlin
X-LIC-LOCATION:Europe/Berlin
BEGIN:DAYLIGHT
DTSTART:20260329T030000
TZOFFSETFROM:+0100
TZOFFSETTO:+0200
TZNAME:CEST
END:DAYLIGHT
END:VTIMEZONE
END:VCALENDAR