BEGIN:VCALENDAR
VERSION:2.0
PRODID:-//wp-events-plugin.com//7.2.3.1//EN
TZID:Europe/Berlin
X-WR-TIMEZONE:Europe/Berlin
BEGIN:VEVENT
UID:129@pfarrverband-forstenried.de
DTSTART;TZID=Europe/Berlin:20260426T103000
DTEND;TZID=Europe/Berlin:20260426T110000
DTSTAMP:20260417T112839Z
URL:https://www.pfarrverband-forstenried.de/events/gott-ist-wie-ein-gaertn
 er/
SUMMARY:"Gott ist wie ein Gärtner"
DESCRIPTION:Herzliche Einladung zum Kleinkindergottesdienst in der Kirche H
 eilig Kreuz! Parallel dazu findet wieder das Kirchencafé statt.
ATTACH;FMTTYPE=image/jpeg:https://www.pfarrverband-forstenried.de/wp-conte
 nt/uploads/2026/04/2026-04-Plakat-Kleinkindergottesdienst.png
CATEGORIES:Kinder,Veranstaltung in Heilig Kreuz
END:VEVENT
BEGIN:VTIMEZONE
TZID:Europe/Berlin
X-LIC-LOCATION:Europe/Berlin
BEGIN:DAYLIGHT
DTSTART:20260329T030000
TZOFFSETFROM:+0100
TZOFFSETTO:+0200
TZNAME:CEST
END:DAYLIGHT
END:VTIMEZONE
END:VCALENDAR